Workbook
Name Print_Area: 'L1 - FA'!$B$1:$K$33
Name Print_Area: 'L1 - FB'!$B$1:$J$29
Name Print_Area: 'L1 - FC'!$B$1:$J$40
Name Print_Area: 'L1 - FD'!$B$1:$J$43
Name Print_Area: 'L1 - FE'!$B$1:$J$45
Name Print_Area: 'L2 - FA'!$B$1:$M$46
Name Print_Area: 'L2 - FC'!$B$1:$L$41
Name Print_Area: 'L2 - FD'!$B$1:$L$46
Name Print_Area: 'L2 - FE'!$B$1:$M$46
Name Print_Area: 'L2 -FB'!$B$1:$M$45

Sheet L1 - FA
E2: Società organizzatrice: | F2: ASD GEAS GINNASTICA
E3: Impianto: | F3: Centro sportivo Cambini
E4: Data: | F4: 44696
B6: Campionato Ginnastica Artistica Maschile e Femminile OPES
C8: COGNOME | D8: NOME | E8: SOCIETA' | F8: Corpo Libero | G8: Parallele | H8: Volteggio | I8: Trampolino | J8: Scart. | K8: TOTALE
B9: 1 | C9: VARESE | D9: ENRICO | E9: PRO MORTARA | F9: 10.3 | G9: 10.3 | H9: 11.4 | I9: 13.3 | J9: =MIN(F9:I9) -> 10.3 | K9: =SUM(F9:I9)-J9 -> 35
B10: 2 | C10: ZARLENGA | D10: EDOARDO | E10: GEAS | F10: 10.4 | G10: 9.7 | H10: 11.4 | I10: 11.9 | J10: =MIN(F10:I10) -> 9.7 | K10: =SUM(F10:I10)-J10 -> 33.7
B11: 3 | C11: PUCCI | D11: ETTORE | E11: PRO MORTARA | F11: 9.9 | G11: 10 | H11: 9.6 | I11: 11.9 | J11: =MIN(F11:I11) -> 9.6 | K11: =SUM(F11:I11)-J11 -> 31.8
B12: 4 | C12: FERRARA | D12: MATTEO | E12: PRO MORTARA | F12: 9.8 | G12: 9.8 | H12: 9.4 | I12: 11.8 | J12: =MIN(F12:I12) -> 9.4 | K12: =SUM(F12:I12)-J12 -> 31.4
B13: 5 | C13: MARTA | D13: ANDREA | E13: GEAS | F13: 9.4 | G13: 9.6 | H13: 9.8 | I13: 11.8 | J13: =MIN(F13:I13) -> 9.4 | K13: =SUM(F13:I13)-J13 -> 31.2
B14: 6 | C14: BORTOLOZZO | D14: MARCO | E14: PRO MORTARA | F14: 9.7 | G14: 9.4 | H14: 9 | I14: 11.9 | J14: =MIN(F14:I14) -> 9 | K14: =SUM(F14:I14)-J14 -> 31
B15: 7 | C15: FARINA | D15: SAMUELE | E15: PRO MORTARA | F15: 9.9 | G15: 9.2 | H15: 9.2 | I15: 11.8 | J15: =MIN(F15:I15) -> 9.2 | K15: =SUM(F15:I15)-J15 -> 30.9
B16: 8 | C16: RIZZI | D16: FRANCESCO | E16: GINNASTICA BERGAMO | F16: 9.8 | G16: 9.3 | H16: 9.5 | I16: 11.2 | J16: =MIN(F16:I16) -> 9.3 | K16: =SUM(F16:I16)-J16 -> 30.5
B17: 9 | C17: SONZONI | D17: LEONARDO | E17: GINNASTICA BERGAMO | F17: 8.4 | G17: 9.2 | H17: 9.8 | I17: 11.3 | J17: =MIN(F17:I17) -> 8.4 | K17: =SUM(F17:I17)-J17 -> 30.3
J18: =MIN(F18:I18) -> 0 | K18: =SUM(F18:I18)-J18 -> 0
J19: =MIN(F19:I19) -> 0 | K19: =SUM(F19:I19)-J19 -> 0
J20: =MIN(F20:I20) -> 0 | K20: =SUM(F20:I20)-J20 -> 0
J21: =MIN(F21:I21) -> 0 | K21: =SUM(F21:I21)-J21 -> 0
J22: =MIN(F22:I22) -> 0 | K22: =SUM(F22:I22)-J22 -> 0
J23: =MIN(F23:I23) -> 0 | K23: =SUM(F23:I23)-J23 -> 0
J24: =MIN(F24:I24) -> 0 | K24: =SUM(F24:I24)-J24 -> 0
J25: =MIN(F25:I25) -> 0 | K25: =SUM(F25:I25)-J25 -> 0
J26: =MIN(F26:I26) -> 0 | K26: =SUM(F26:I26)-J26 -> 0
J27: =MIN(F27:I27) -> 0 | K27: =SUM(F27:I27)-J27 -> 0
J28: =MIN(F28:I28) -> 0 | K28: =SUM(F28:I28)-J28 -> 0
J29: =MIN(F29:I29) -> 0 | K29: =SUM(F29:I29)-J29 -> 0
... J38: =MIN(F38:I38) -> 0 | K38: =SUM(F38:I38)-J38 -> 0

Sheet L1 - FB
E2: Società organizzatrice: | F2: ASD GEAS GINNASTICA
E3: Impianto: | F3: Centro sportivo Cambini
E4: Data: | F4: 44696
B6: Campionato Ginnastica Artistica Maschile e Femminile OPES
C8: COGNOME | D8: NOME | E8: SOCIETA' | F8: Corpo Libero | G8: Parallele | H8: Volteggio | I8: Trampolino | J8: Scart. | K8: TOTALE
B9: 1 | C9: D' ALENA | D9: AMOS | E9: PRO MORTARA | F9: 10.2 | G9: 10.7 | H9: 11.1 | I9: 13.3 | J9: =MIN(F9:I9) -> 10.2 | K9: =SUM(F9:I9)-J9 -> 35.1
B10: 2 | C10: Daniele | D10: D'armento | E10: GEAS | F10: 10.1 | G10: 9.8 | H10: 11.4 | I10: 13.4 | J10: =MIN(F10:I10) -> 9.8 | K10: =SUM(F10:I10)-J10 -> 34.9
B11: 3 | C11: DANIELE | D11: PEZZONI | E11: GEAS | F11: 9.7 | G11: 9.5 | H11: 11.4 | I11: 11.7 | J11: =MIN(F11:I11) -> 9.5 | K11: =SUM(F11:I11)-J11 -> 32.8
C12: CORTINOVIS | D12: GABRIELE | E12: GINNASTICA BERGAMO | F12: 9.5 | G12: 9.4 | H12: 9.9 | I12: 12.7 | J12: =MIN(F12:I12) -> 9.4 | K12: =SUM(F12:I12)-J12 -> 32.1
C13: FOGLIETTA | D13: CRISTIAN | E13: MARIO CORRIAS | F13: 9.7 | G13: 10.1 | H13: 9.6 | I13: 11.5 | J13: =MIN(F13:I13) -> 9.6 | K13: =SUM(F13:I13)-J13 -> 31.3
C14: TONELLOTTO | D14: PIETRO | E14: GINNASTICA BERGAMO | F14: 9.8 | G14: 9 | H14: 9.5 | I14: 11.8 | J14: =MIN(F14:I14) -> 9 | K14: =SUM(F14:I14)-J14 -> 31.1
C15: CARRARA | D15: FRANCESCO | E15: GINNASTICA BERGAMO | F15: 9.6 | G15: 9.6 | H15: 8.4 | I15: 11.2 | J15: =MIN(F15:I15) -> 8.4 | K15: =SUM(F15:I15)-J15 -> 30.4
J16: =MIN(F16:I16) -> 0 | K16: =SUM(F16:I16)-J16 -> 0
J17: =MIN(F17:I17) -> 0 | K17: =SUM(F17:I17)-J17 -> 0
J18: =MIN(F18:I18) -> 0 | K18: =SUM(F18:I18)-J18 -> 0
J19: =MIN(F19:I19) -> 0 | K19: =SUM(F19:I19)-J19 -> 0
J20: =MIN(F20:I20) -> 0 | K20: =SUM(F20:I20)-J20 -> 0
J21: =MIN(F21:I21) -> 0 | K21: =SUM(F21:I21)-J21 -> 0
J22: =MIN(F22:I22) -> 0 | K22: =SUM(F22:I22)-J22 -> 0
J23: =MIN(F23:I23) -> 0 | K23: =SUM(F23:I23)-J23 -> 0
J24: =MIN(F24:I24) -> 0 | K24: =SUM(F24:I24)-J24 -> 0
J25: =MIN(F25:I25) -> 0 | K25: =SUM(F25:I25)-J25 -> 0
J26: =MIN(F26:I26) -> 0 | K26: =SUM(F26:I26)-J26 -> 0
J27: =MIN(F27:I27) -> 0 | K27: =SUM(F27:I27)-J27 -> 0
... J37: =MIN(F37:I37) -> 0 | K37: =SUM(F37:I37)-J37 -> 0

Sheet L1 - FC
E2: Società organizzatrice: | F2: ASD GEAS GINNASTICA
E3: Impianto: | F3: Centro sportivo Cambini
E4: Data: | F4: 44696
B6: Campionato Ginnastica Artistica Maschile e Femminile OPES
C8: COGNOME | D8: NOME | E8: SOCIETA' | F8: Corpo Libero | G8: Parallele | H8: Volteggio | I8: Trampolino | J8: Scart. | K8: TOTALE
B9: 1 | C9: LUZZANA | D9: ISAIA | E9: GINNASTICA BERGAMO | F9: 10.2 | G9: 9.1 | H9: 11.2 | I9: 14.5 | J9: =MIN(F9:I9) -> 9.1 | K9: =SUM(F9:I9)-J9 -> 35.9
B10: 2 | C10: GUERRINI | D10: ANDREA | E10: GINNASTICA BERGAMO | F10: 9.3 | G10: 9.4 | H10: 11.3 | I10: 14.8 | J10: =MIN(F10:I10) -> 9.3 | K10: =SUM(F10:I10)-J10 -> 35.5
B11: 3 | C11: MORNATA | D11: ALESSANDRO | E11: MARIO CORRIAS | F11: 9.6 | G11: 10.2 | H11: 10.3 | I11: 11.8 | J11: =MIN(F11:I11) -> 9.6 | K11: =SUM(F11:I11)-J11 -> 32.3
C12: ANNUNZIATA | D12: ALESSIO | E12: MARIO CORRIAS | F12: 9.6 | G12: 9.5 | H12: 10.2 | I12: 11.4 | J12: =MIN(F12:I12) -> 9.5 | K12: =SUM(F12:I12)-J12 -> 31.2
C13: BATTENTI | D13: FILIPPO | E13: MARIO CORRIAS | F13: 9.3 | G13: 10 | H13: 9.5 | I13: 11.7 | J13: =MIN(F13:I13) -> 9.3 | K13: =SUM(F13:I13)-J13 -> 31.2
C14: EVANGELISTA | D14: LORIS | E14: MARIO CORRIAS | F14: 9.6 | G14: 9.5 | H14: 9.5 | I14: 11.5 | J14: =MIN(F14:I14) -> 9.5 | K14: =SUM(F14:I14)-J14 -> 30.6
J15: =MIN(F15:I15) -> 0 | K15: =SUM(F15:I15)-J15 -> 0
J16: =MIN(F16:I16) -> 0 | K16: =SUM(F16:I16)-J16 -> 0
J17: =MIN(F17:I17) -> 0 | K17: =SUM(F17:I17)-J17 -> 0
J18: =MIN(F18:I18) -> 0 | K18: =SUM(F18:I18)-J18 -> 0
J19: =MIN(F19:I19) -> 0 | K19: =SUM(F19:I19)-J19 -> 0
J20: =MIN(F20:I20) -> 0 | K20: =SUM(F20:I20)-J20 -> 0
J21: =MIN(F21:I21) -> 0 | K21: =SUM(F21:I21)-J21 -> 0
J22: =MIN(F22:I22) -> 0 | K22: =SUM(F22:I22)-J22 -> 0
J23: =MIN(F23:I23) -> 0 | K23: =SUM(F23:I23)-J23 -> 0
J24: =MIN(F24:I24) -> 0 | K24: =SUM(F24:I24)-J24 -> 0
J25: =MIN(F25:I25) -> 0 | K25: =SUM(F25:I25)-J25 -> 0
J26: =MIN(F26:I26) -> 0 | K26: =SUM(F26:I26)-J26 -> 0
... J47: =MIN(F47:I47) -> 0 | K47: =SUM(F47:I47)-J47 -> 0

Sheet L1 - FD
E2: Società organizzatrice: | F2: ASD GEAS GINNASTICA
E3: Impianto: | F3: Centro sportivo Cambini
E4: Data: | F4: 44696
B6: Campionato Ginnastica Artistica Maschile e Femminile OPES
C8: COGNOME | D8: NOME | E8: SOCIETA' | F8: Corpo Libero | G8: Parallele | H8: Volteggio | I8: Trampolino | J8: Scart. | K8: TOTALE
B9: 1 | C9: BRUNATI | D9: EDOARDO | E9: MARIO CORRIAS | F9: 10 | G9: 9.2 | H9: 10.7 | I9: 13.2 | J9: =MIN(F9:I9) -> 9.2 | K9: =SUM(F9:I9)-J9 -> 33.9
B10: 2 | C10: CIMITAN | D10: DANIELE | E10: GINNASTICA BERGAMO | F10: 0 | G10: 0 | H10: 0 | I10: 15 | J10: =MIN(F10:I10) -> 0 | K10: =SUM(F10:I10)-J10 -> 15
J11: =MIN(F11:I11) -> 0 | K11: =SUM(F11:I11)-J11 -> 0
J12: =MIN(F12:I12) -> 0 | K12: =SUM(F12:I12)-J12 -> 0
J13: =MIN(F13:I13) -> 0 | K13: =SUM(F13:I13)-J13 -> 0
J14: =MIN(F14:I14) -> 0 | K14: =SUM(F14:I14)-J14 -> 0
J15: =MIN(F15:I15) -> 0 | K15: =SUM(F15:I15)-J15 -> 0
J16: =MIN(F16:I16) -> 0 | K16: =SUM(F16:I16)-J16 -> 0
J17: =MIN(F17:I17) -> 0 | K17: =SUM(F17:I17)-J17 -> 0
J18: =MIN(F18:I18) -> 0 | K18: =SUM(F18:I18)-J18 -> 0
J19: =MIN(F19:I19) -> 0 | K19: =SUM(F19:I19)-J19 -> 0
J20: =MIN(F20:I20) -> 0 | K20: =SUM(F20:I20)-J20 -> 0
J21: =MIN(F21:I21) -> 0 | K21: =SUM(F21:I21)-J21 -> 0
J22: =MIN(F22:I22) -> 0 | K22: =SUM(F22:I22)-J22 -> 0
... J48: =MIN(F48:I48) -> 0 | K48: =SUM(F48:I48)-J48 -> 0

Sheet L1 - FE
E2: Società organizzatrice: | F2: ASD GEAS GINNASTICA
E3: Impianto: | F3: Centro sportivo Cambini
E4: Data: | F4: 44696
B6: Campionato Ginnastica Artistica Maschile e Femminile OPES
C8: COGNOME | D8: NOME | E8: SOCIETA' | F8: Corpo Libero | G8: Parallele | H8: Volteggio | I8: Trampolino | J8: Scart. | K8: TOTALE
J9: =MIN(F9:I9) -> 0 | K9: =SUM(F9:I9)-J9 -> 0
J10: =MIN(F10:I10) -> 0 | K10: =SUM(F10:I10)-J10 -> 0
J11: =MIN(F11:I11) -> 0 | K11: =SUM(F11:I11)-J11 -> 0
J12: =MIN(F12:I12) -> 0 | K12: =SUM(F12:I12)-J12 -> 0
J13: =MIN(F13:I13) -> 0 | K13: =SUM(F13:I13)-J13 -> 0
J14: =MIN(F14:I14) -> 0 | K14: =SUM(F14:I14)-J14 -> 0
J15: =MIN(F15:I15) -> 0 | K15: =SUM(F15:I15)-J15 -> 0
J16: =MIN(F16:I16) -> 0 | K16: =SUM(F16:I16)-J16 -> 0
J17: =MIN(F17:I17) -> 0 | K17: =SUM(F17:I17)-J17 -> 0
J18: =MIN(F18:I18) -> 0 | K18: =SUM(F18:I18)-J18 -> 0
J19: =MIN(F19:I19) -> 0 | K19: =SUM(F19:I19)-J19 -> 0
J20: =MIN(F20:I20) -> 0 | K20: =SUM(F20:I20)-J20 -> 0
... J48: =MIN(F48:I48) -> 0 | K48: =SUM(F48:I48)-J48 -> 0
J49: =SUM(F49:I49) -> 0
J50: =SUM(F50:I50) -> 0

Sheet L2 - FA
E2: Società organizzatrice: | F2: ASD GEAS GINNASTICA
E3: Impianto: | F3: Centro sportivo Cambini
E4: Data: | F4: 44696
B6: Campionato Ginnastica Artistica Maschile e Femminile OPES
C8: COGNOME | D8: NOME | E8: SOCIETA' | F8: Corpo Libero | G8: Trampolino | H8: Sbarra | I8: Maniglie | J8: Volteggio | K8: Parallele | L8: Scart. | M8: TOTALE
L9: =MIN(F9:K9) -> 0 | M9: =SUM(F9:K9)-L9 -> 0
L10: =MIN(F10:K10) -> 0 | M10: =SUM(F10:K10)-L10 -> 0
L11: =MIN(F11:K11) -> 0 | M11: =SUM(F11:K11)-L11 -> 0
L12: =MIN(F12:K12) -> 0 | M12: =SUM(F12:K12)-L12 -> 0
L13: =MIN(F13:K13) -> 0 | M13: =SUM(F13:K13)-L13 -> 0
L14: =MIN(F14:K14) -> 0 | M14: =SUM(F14:K14)-L14 -> 0
L15: =MIN(F15:K15) -> 0 | M15: =SUM(F15:K15)-L15 -> 0
L16: =MIN(F16:K16) -> 0 | M16: =SUM(F16:K16)-L16 -> 0
L17: =MIN(F17:K17) -> 0 | M17: =SUM(F17:K17)-L17 -> 0
L18: =MIN(F18:K18) -> 0 | M18: =SUM(F18:K18)-L18 -> 0
L19: =MIN(F19:K19) -> 0 | M19: =SUM(F19:K19)-L19 -> 0
L20: =MIN(F20:K20) -> 0 | M20: =SUM(F20:K20)-L20 -> 0
... L50: =MIN(F50:K50) -> 0 | M50: =SUM(F50:K50)-L50 -> 0

Sheet L2 -FB
E2: Società organizzatrice: | F2: ASD GEAS GINNASTICA
E3: Impianto: | F3: Centro sportivo Cambini
E4: Data: | F4: 44696
B6: Campionato Ginnastica Artistica Maschile e Femminile OPES
C8: COGNOME | D8: NOME | E8: SOCIETA' | F8: Corpo Libero | G8: Trampolino | H8: Sbarra | I8: Maniglie | J8: Volteggio | K8: Parallele | L8: Scart. | M8: TOTALE
L9: =MIN(F9:K9) -> 0 | M9: =SUM(F9:K9)-L9 -> 0
L10: =MIN(F10:K10) -> 0 | M10: =SUM(F10:K10)-L10 -> 0
L11: =MIN(F11:K11) -> 0 | M11: =SUM(F11:K11)-L11 -> 0
L12: =MIN(F12:K12) -> 0 | M12: =SUM(F12:K12)-L12 -> 0
L13: =MIN(F13:K13) -> 0 | M13: =SUM(F13:K13)-L13 -> 0
L14: =MIN(F14:K14) -> 0 | M14: =SUM(F14:K14)-L14 -> 0
L15: =MIN(F15:K15) -> 0 | M15: =SUM(F15:K15)-L15 -> 0
L16: =MIN(F16:K16) -> 0 | M16: =SUM(F16:K16)-L16 -> 0
L17: =MIN(F17:K17) -> 0 | M17: =SUM(F17:K17)-L17 -> 0
L18: =MIN(F18:K18) -> 0 | M18: =SUM(F18:K18)-L18 -> 0
L19: =MIN(F19:K19) -> 0 | M19: =SUM(F19:K19)-L19 -> 0
L20: =MIN(F20:K20) -> 0 | M20: =SUM(F20:K20)-L20 -> 0
... L49: =MIN(F49:K49) -> 0 | M49: =SUM(F49:K49)-L49 -> 0

Sheet L2 - FC
E2: Società organizzatrice: | F2: ='L2 -FB'!F2 -> ASD GEAS GINNASTICA
E3: Impianto: | F3: ='L2 -FB'!F3 -> Centro sportivo Cambini
E4: Data: | F4: ='L2 -FB'!F4 -> 44696
B6: Campionato Ginnastica Artistica Maschile e Femminile OPES
C8: COGNOME | D8: NOME | E8: SOCIETA' | F8: Corpo Libero | G8: Trampolino | H8: Maniglie | I8: Volteggio | J8: Parallele | K8: Scart. | L8: TOTALE
B9: 1 | C9: COLDESINA | D9: TOMMASO | E9: PRO MORTARA | F9: 9.4 | G9: 15.7 | H9: 0 | I9: 14.2 | J9: 11.3 | K9: =MIN(F9:J9) -> 0 | L9: =SUM(F9:J9)-K9 -> 50.6
K10: =MIN(F10:J10) -> 0 | L10: =SUM(F10:J10)-K10 -> 0
K11: =MIN(F11:J11) -> 0 | L11: =SUM(F11:J11)-K11 -> 0
K12: =MIN(F12:J12) -> 0 | L12: =SUM(F12:J12)-K12 -> 0
K13: =MIN(F13:J13) -> 0 | L13: =SUM(F13:J13)-K13 -> 0
K14: =MIN(F14:J14) -> 0 | L14: =SUM(F14:J14)-K14 -> 0
K15: =MIN(F15:J15) -> 0 | L15: =SUM(F15:J15)-K15 -> 0
K16: =MIN(F16:J16) -> 0 | L16: =SUM(F16:J16)-K16 -> 0
K17: =MIN(F17:J17) -> 0 | L17: =SUM(F17:J17)-K17 -> 0
K18: =MIN(F18:J18) -> 0 | L18: =SUM(F18:J18)-K18 -> 0
K19: =MIN(F19:J19) -> 0 | L19: =SUM(F19:J19)-K19 -> 0
K20: =MIN(F20:J20) -> 0 | L20: =SUM(F20:J20)-K20 -> 0
K21: =MIN(F21:J21) -> 0 | L21: =SUM(F21:J21)-K21 -> 0
... K45: =MIN(F45:J45) -> 0 | L45: =SUM(F45:J45)-K45 -> 0

Sheet L2 - FD
E2: Società organizzatrice: | F2: ='L2 - FC'!F2 -> ASD GEAS GINNASTICA
E3: Impianto: | F3: ='L2 - FC'!F3 -> Centro sportivo Cambini
E4: Data: | F4: ='L2 - FC'!F4 -> 44696
B6: Campionato Ginnastica Artistica Maschile e Femminile OPES
C8: COGNOME | D8: NOME | E8: SOCIETA' | F8: Corpo Libero | G8: Trampolino | H8: Maniglie | I8: Volteggio | J8: Parallele | K8: Scart. | L8: TOTALE
B9: 1 | C9: BOCCALARI | D9: RICCARDO | E9: PRO MORTARA | F9: 10.7 | G9: 15.9 | H9: 0 | I9: 14.4 | J9: 11.3 | K9: =MIN(F9:J9) -> 0 | L9: =SUM(F9:J9)-K9 -> 52.3
K10: =MIN(F10:J10) -> 0 | L10: =SUM(F10:J10)-K10 -> 0
K11: =MIN(F11:J11) -> 0 | L11: =SUM(F11:J11)-K11 -> 0
K12: =MIN(F12:J12) -> 0 | L12: =SUM(F12:J12)-K12 -> 0
K13: =MIN(F13:J13) -> 0 | L13: =SUM(F13:J13)-K13 -> 0
K14: =MIN(F14:J14) -> 0 | L14: =SUM(F14:J14)-K14 -> 0
K15: =MIN(F15:J15) -> 0 | L15: =SUM(F15:J15)-K15 -> 0
K16: =MIN(F16:J16) -> 0 | L16: =SUM(F16:J16)-K16 -> 0
K17: =MIN(F17:J17) -> 0 | L17: =SUM(F17:J17)-K17 -> 0
K18: =MIN(F18:J18) -> 0 | L18: =SUM(F18:J18)-K18 -> 0
K19: =MIN(F19:J19) -> 0 | L19: =SUM(F19:J19)-K19 -> 0
K20: =MIN(F20:J20) -> 0 | L20: =SUM(F20:J20)-K20 -> 0
K21: =MIN(F21:J21) -> 0 | L21: =SUM(F21:J21)-K21 -> 0
... K50: =MIN(F50:J50) -> 0 | L50: =SUM(F50:J50)-K50 -> 0

Sheet L2 - FE
E2: Società organizzatrice: | F2: ='L2 - FC'!F2 -> ASD GEAS GINNASTICA
E3: Impianto: | F3: ='L2 - FC'!F3 -> Centro sportivo Cambini
E4: Data: | F4: ='L2 - FC'!F4 -> 44696
B6: Campionato Ginnastica Artistica Maschile e Femminile OPES
C8: COGNOME | D8: NOME | E8: SOCIETA' | F8: Corpo Libero | G8: Trampolino | H8: Sbarra | I8: Maniglie | J8: Volteggio | K8: Parallele | L8: Scart. | M8: TOTALE
L9: =MIN(F9:K9) -> 0 | M9: =SUM(F9:K9)-L9 -> 0
L10: =MIN(F10:K10) -> 0 | M10: =SUM(F10:K10)-L10 -> 0
L11: =MIN(F11:K11) -> 0 | M11: =SUM(F11:K11)-L11 -> 0
L12: =MIN(F12:K12) -> 0 | M12: =SUM(F12:K12)-L12 -> 0
L13: =MIN(F13:K13) -> 0 | M13: =SUM(F13:K13)-L13 -> 0
L14: =MIN(F14:K14) -> 0 | M14: =SUM(F14:K14)-L14 -> 0
L15: =MIN(F15:K15) -> 0 | M15: =SUM(F15:K15)-L15 -> 0
L16: =MIN(F16:K16) -> 0 | M16: =SUM(F16:K16)-L16 -> 0
L17: =MIN(F17:K17) -> 0 | M17: =SUM(F17:K17)-L17 -> 0
L18: =MIN(F18:K18) -> 0 | M18: =SUM(F18:K18)-L18 -> 0
L19: =MIN(F19:K19) -> 0 | M19: =SUM(F19:K19)-L19 -> 0
L20: =MIN(F20:K20) -> 0 | M20: =SUM(F20:K20)-L20 -> 0
... L50: =MIN(F50:K50) -> 0 | M50: =SUM(F50:K50)-L50 -> 0
